BEGIN:VCALENDAR
VERSION:2.0
PRODID:-//AK-Rohstoffe - ECPv5.16.4//NONSGML v1.0//EN
CALSCALE:GREGORIAN
METHOD:PUBLISH
X-WR-CALNAME:AK-Rohstoffe
X-ORIGINAL-URL:https://ak-rohstoffe.de
X-WR-CALDESC:Events for AK-Rohstoffe
BEGIN:VTIMEZONE
TZID:Europe/Berlin
BEGIN:DAYLIGHT
TZOFFSETFROM:+0100
TZOFFSETTO:+0200
TZNAME:CEST
DTSTART:20240331T010000
END:DAYLIGHT
BEGIN:STANDARD
TZOFFSETFROM:+0200
TZOFFSETTO:+0100
TZNAME:CET
DTSTART:20241027T010000
END:STANDARD
END:VTIMEZONE
BEGIN:VEVENT
DTSTART;TZID=Europe/Berlin:20241008T180000
DTEND;TZID=Europe/Berlin:20241008T200000
DTSTAMP:20260425T055103
CREATED:20240820T090636Z
LAST-MODIFIED:20240820T115145Z
UID:3085-1728410400-1728417600@ak-rohstoffe.de
SUMMARY:Grüne Transformation > Menschenrechte?  Wie Bergbau-Aktivist*innen in Mexiko Lieferkettengesetze nutzen
DESCRIPTION:Bei der Rohstoffausbeutung im Globalen Süden sind schwerwiegende Umweltzerstörung und Menschenrechtsverletzungen keine bedauerlichen Ausnahmen\, sondern die Regel. Die gestiegene Nachfrage nach Mineralien im Zuge der sog. Grünen Transformation der Wirtschaft in den Industrieländern könnte in Zukunft mit noch stärkeren Konflikten in den rohstoffproduzierenden Ländern einhergehen. Gleichzeitig haben Deutschland und die EU Lieferkettengesetze verabschiedet\, die von Unternehmen auch in Rohstofflieferketten die Umsetzungen von menschenrechtlichen und umweltbezogenen Sorgfaltspflichten einfordern. Doch angesichts von Klimakrise\, wirtschaftlicher Rezession und Kriegen stellen Unternehmen und politische Akteure die Regulierungen zunehmend polemisch in Frage. \nMit welchen Herausforderungen sind Betroffene und zivilgesellschaftliche Organisationen in dieser Situation konfrontiert\, wenn sie in konkreten Fällen von Unternehmen und Staat eine ambitionierte Umsetzung und Kontrolle der Pflichten einfordern? Welche Maßnahmen müssen aus ihrer Sicht mindestens umgesetzt werden? \nDiese Fragen werden wir mit einer Aktivistin aus Mexiko diskutieren\, deren Gemeinde unter den gesundheitlichen und umweltbezogenen Auswirkungen einer Bergbaukatastrophe leidet. Sie fordert sowohl vom örtlichen Bergbaukonzern als auch vom deutschen Importeuer Aurubis wirksame Maßnahmen zur Behebung der immensen Schäden.\nAußerdem wird eine Expertin aus der Zivilgesellschaft ihre Perspektive auf die Umsetzung des Gesetzes in Rohstofflieferketten darlegen. \nAlle Teilnehmer*innen werden am Ende eingeladen\, sich an der Diskussion zu beteiligen.\nDie Veranstaltung wird simultanübersetzt (Spanisch-Deutsch). \nOnline-Seminar via Zoom. Zur Anmeldung hier.
URL:https://ak-rohstoffe.de/veranstaltung/grune-transformation-menschenrechte-wie-bergbau-aktivistinnen-in-mexiko-lieferkettengesetze-nutzen/
LOCATION:Online
ATTACH;FMTTYPE=image/png:https://ak-rohstoffe.de/wp-content/uploads/2024/08/VA-RI-Gruene-Transformation-081024-1600x900px1.png
END:VEVENT
END:VCALENDAR